BEGIN:VCALENDAR
PRODID:-//eluceo/ical//2.0/EN
VERSION:2.0
CALSCALE:GREGORIAN
BEGIN:VEVENT
UID:c8baac99-cc77-49e5-b3dd-c364e3c9e9fa
DTSTAMP:20260419T132128Z
SUMMARY:Stjoeftóngsdaag 2027
DESCRIPTION:
DTSTART:20270109T000000
DTEND:20270109T235959
LOCATION:
END:VEVENT
BEGIN:VTIMEZONE
TZID:Europe/Amsterdam
BEGIN:STANDARD
DTSTART:20270109T000000
TZNAME:CET
TZOFFSETTO:+0100
TZOFFSETFROM:+0100
END:STANDARD
END:VTIMEZONE
END:VCALENDAR
